BEGIN:VCALENDAR
VERSION:2.0
PRODID:-//Palazzo Borghese - ECPv6.10.1.1//NONSGML v1.0//EN
CALSCALE:GREGORIAN
METHOD:PUBLISH
X-WR-CALNAME:Palazzo Borghese
X-ORIGINAL-URL:https://www.nino.it.lifefacility.it
X-WR-CALDESC:Eventi per Palazzo Borghese
REFRESH-INTERVAL;VALUE=DURATION:PT1H
X-Robots-Tag:noindex
X-PUBLISHED-TTL:PT1H
BEGIN:VTIMEZONE
TZID:UTC
BEGIN:STANDARD
TZOFFSETFROM:+0000
TZOFFSETTO:+0000
TZNAME:UTC
DTSTART:20200101T000000
END:STANDARD
END:VTIMEZONE
BEGIN:VEVENT
DTSTART;VALUE=DATE:20240626
DTEND;VALUE=DATE:20240627
DTSTAMP:20260421T170210
CREATED:20241120T153951Z
LAST-MODIFIED:20250524T183935Z
UID:10000003-1719360000-1719446399@www.nino.it.lifefacility.it
SUMMARY:L'Ospite Invisibile
DESCRIPTION:Spettacolo teatrale a Palazzo Borghese\nUna serata di teatro da camera nella suggestiva atmosfera di Palazzo Borghese.Un’esperienza immersiva\, pensata per uno spazio intimo\, dove la parola e la presenza dell’attore si fondono con la bellezza della dimora storica. \nLo spettacolo accompagnerà il pubblico in un viaggio tra storia\, emozione e memoria\, trasformando una stanza del palazzo in una scena viva e vibrante. \nCosa accade quando una voce antica torna tra le stanze che l’hanno custodita?Una figura immaginaria\, sospesa tra memoria e poesia\, racconta il palazzo da dentro: le attese\, i segreti\, la vita nascosta dietro le porte chiuse. \nUn monologo teatrale intimo\, ambientato in una sala del palazzo\, dove il pubblico è testimone diretto di un racconto che si fa presenza. \n“La memoria non abita nei libri\, ma nei luoghi che sanno ascoltare.” \n📍 Palazzo Borghese – Artena🗓️  Ore 21:00🎟️ Ingresso gratuito con prenotazione obbligatoria📧 eventi@palazzoborghesearena.it
URL:https://www.nino.it.lifefacility.it/event/esistere-come-donna/
CATEGORIES:Teatro
ATTACH;FMTTYPE=image/png:https://www.nino.it.lifefacility.it/wp-content/uploads/2024/11/Screenshot-2025-05-24-alle-20.38.24.png
END:VEVENT
BEGIN:VEVENT
DTSTART;VALUE=DATE:20240626
DTEND;VALUE=DATE:20240627
DTSTAMP:20260421T170210
CREATED:20241120T151556Z
LAST-MODIFIED:20241204T195029Z
UID:10000005-1719360000-1719446399@www.nino.it.lifefacility.it
SUMMARY:Jazz en Plen Air
DESCRIPTION:Jazz En Plein Air\nDal 5 all’8 giugno 2025\, il giardino privato del Palazzo Borghese di Artena si trasforma in un palcoscenico unico per il Jazz. Un evento magico sotto le stelle\, dedicato agli amanti del jazz e delle sue contaminazioni\, con artisti di fama nazionale \nQuattro serate di grande musica\, tra natura\, storia e passione\, per un’esperienza unica nel cuore del Lazio. \nProgramma completo: \n📅 5 Giugno 2025 – Apertura del Festival \n\nOre 19:00: Apertura dei cancelli e accoglienza con aperitivo nel giardino.\nOre 20:30: Concerto di apertura con il Quartetto Swing Italiano\, un viaggio nel jazz tradizionale italiano.\nOre 22:00: Esibizione di [Nome dell’artista internazionale]\, con un repertorio che spazia dal bebop al contemporary jazz.\n\n\n📅 6 Giugno 2025 – Serata dedicata al Jazz Fusion \n\nOre 19:00: Workshop: “L’improvvisazione nel jazz moderno”\, condotto da [Nome del musicista ospite].\nOre 20:30: Esibizione del gruppo Fusion Collective\, un ensemble noto per il mix di jazz\, funk e soul.\nOre 22:00: Concerto di [Nome dell’artista internazionale]\, con un repertorio di jazz fusion e influenze world music.\n\n\n📅 7 Giugno 2025 – Jazz & Blues sotto le stelle \n\nOre 18:30: Aperitivo con live acoustic jazz nel giardino.\nOre 20:00: Esibizione di Blues & Roots Trio\, un progetto che fonde blues e jazz con influenze tradizionali.\nOre 22:00: Concerto di [Nome della big band ospite]\, una serata di swing e energia\, perfetta per il pubblico più appassionato.\n\n\n📅 8 Giugno 2025 – Chiusura del Festival \n\nOre 19:00: Talk: “Il futuro del jazz nella scena musicale contemporanea”\, con la partecipazione di critici musicali e artisti.\nOre 20:30: Concerto di Smooth Vibes Duo\, un repertorio intimo e raffinato tra jazz e bossanova.\nOre 22:00: Gran finale con [Nome del gruppo principale]\, che regalerà un’esibizione esplosiva per chiudere in bellezza il festival.\n\n\nDettagli utili: \n\nLocation: Giardino privato del Palazzo Borghese\, Artena.\nBiglietti:\n\nIngresso serale: €15\nAbbonamento per 4 serate: €50\n\n\nServizi: Area ristoro\, cocktail bar\, parcheggio privato.\n\nPrenotazioni:\nAcquista i biglietti online [inserire link alla prenotazione] o contatta il numero [inserire numero di telefono]. \n\nUnisciti a noi per quattro serate di musica e magia sotto le stelle. Il jazz non è solo musica\, è un modo di vivere. Non mancare!
URL:https://www.nino.it.lifefacility.it/event/jazz-en-plen-air/
CATEGORIES:Musica
ATTACH;FMTTYPE=image/png:https://www.nino.it.lifefacility.it/wp-content/uploads/2024/11/Screenshot-2024-12-04-alle-20.43.02.png
END:VEVENT
BEGIN:VEVENT
DTSTART;VALUE=DATE:20200906
DTEND;VALUE=DATE:20200907
DTSTAMP:20260421T170210
CREATED:20241120T151454Z
LAST-MODIFIED:20241215T112732Z
UID:10000002-1599350400-1599436799@www.nino.it.lifefacility.it
SUMMARY:Serata Jazz Clandestino
DESCRIPTION:Preparati a immergerti nelle magiche atmosfere del jazz\, dove il ritmo incontra l’emozione. Musicisti straordinari ti trasporteranno in un viaggio attraverso i suoni più intensi e coinvolgenti del genere. \nNon perdere questa occasione unica per vivere la musica dal vivo in un ambiente suggestivo!\nPrenota il tuo posto ora e condividi questa esperienza con gli amanti della musica e dell’arte.
URL:https://www.nino.it.lifefacility.it/event/serata-jazz-clandestino/
CATEGORIES:Eventi culturali
ATTACH;FMTTYPE=image/png:https://www.nino.it.lifefacility.it/wp-content/uploads/2024/11/canva-verde-scuro-con-illustrazioni-di-strumenti-giallo-e-crema-jazz-poster-poRBH7AjN5Y.png
END:VEVENT
END:VCALENDAR